BEGIN:VCALENDAR
PRODID:-//eluceo/ical//2.0/EN
VERSION:2.0
CALSCALE:GREGORIAN
BEGIN:VEVENT
UID:545b9a3318b4cdb8b7efdb78a672ebdd
DTSTAMP:20260421T082419Z
SUMMARY:Sicherheit - „Gefahren bei der Benutzung von (öffentlichem) WLAN
 “
DESCRIPTION:Hinweis: Aufgrund einer Live Präsentation dauert das Referat c
 a. 30 Minuten. Bitte Zeit bis 14 Uhr reservieren.\nTalare: Rot. Andreas Pr
 etali\, RC Zürich-Flughafen
URL:https://rcliestal.ch/sv/agenda/show/90243
DTSTART;TZID=Europe/Zurich:20190220T121500
DTEND;TZID=Europe/Zurich:20190220T140000
LOCATION:Hotel Engel
CATEGORIES:Rotary
END:VEVENT
BEGIN:VTIMEZONE
TZID:Europe/Zurich
BEGIN:STANDARD
DTSTART:20190220T121500
TZNAME:CET
TZOFFSETTO:+0100
TZOFFSETFROM:+0100
END:STANDARD
END:VTIMEZONE
END:VCALENDAR
