BEGIN:VCALENDAR
PRODID:-//eluceo/ical//2.0/EN
VERSION:2.0
CALSCALE:GREGORIAN
BEGIN:VEVENT
UID:98c91025d386913cfe8ef7db1519e959
DTSTAMP:20260419T133330Z
SUMMARY:Ski-Weekend - Partneranlass
DESCRIPTION:Liebe Rotary Kollegen\, \n\nDas nächstjährige Skiweekend fin
 det vom 24.-27.1. im exklusiven Zermatt statt. Ich habe nun einige Zimmer 
 im Chalet Hotel Schönegg reserviert:\n\nDas Doppelzimmer ohne Matterhornb
 lick mit Frühstück für zwei Personen und 3 Nächte: 1110.-\n\nDas Doppe
 lzimmer mit Matterhornblick und Frühstück für zwei Personen und 3 Näch
 ste: 1230.-\n\nDas Nachtessen als Halbpension kostet 65.- pro Person und T
 ag.\n\nDie Skipässe kosten für 2 Tage (ganzes Gebiet) 146.- und 3 Tage 2
 04.- pro Person.\n\nDas ganze ist also nicht ganz billig aber dafür von b
 ester Qualität. Ich freue mich auf zahlreiche Anmeldungen bitte bis am 12
 .10.2018 definitiv per E-Mail in mich.\n\nBemerkung: Da uns das Hotel Sch
 önegg nur eine beschränkte Anzahl Zimmer vor-reservieren konnte\, kann e
 s sein\, dass einige von uns in einem nahegelegenen Hotel untergebracht we
 rden. Ich werde dazu entsprechend informieren.\n\nHerzliche Grüsse\n\nUrs
 \n\nUrs Matter\n\nmatter@nanosurf.com\nTalare: Urs Matter
URL:https://rcliestal.ch/sv/agenda/show/86343
DTSTART;TZID=Europe/Zurich:20190124T000000
DTEND;TZID=Europe/Zurich:20190127T000000
LOCATION:Zermatt\, Chalet Hotel Schönegg
CATEGORIES:Rotary
END:VEVENT
BEGIN:VTIMEZONE
TZID:Europe/Zurich
BEGIN:STANDARD
DTSTART:20190124T000000
TZNAME:CET
TZOFFSETTO:+0100
TZOFFSETFROM:+0100
END:STANDARD
END:VTIMEZONE
END:VCALENDAR
