BEGIN:VCALENDAR
PRODID:-//eluceo/ical//2.0/EN
VERSION:2.0
CALSCALE:GREGORIAN
BEGIN:VEVENT
UID:0b7429e70f9cf1566b967d0a9a43564e
DTSTAMP:20260421T190000Z
SUMMARY:Tischgespräche - BAD EPTINGEN
DESCRIPTION:Betriebsferien Hotel Engel\n\nAb 11:30 Uhr: Geburtstagsapéro v
 on Hans Vogt\nRelatore/i: Hans Vogt
URL:https://rcliestal.ch/it/agenda/show/87523
DTSTART;TZID=Europe/Zurich:20180725T121500
DTEND;TZID=Europe/Zurich:20180725T133000
LOCATION:Hotel Bad Eptingen\, Läufelfingerstrasse 2\, 4458 Eptingen BL
CATEGORIES:Rotary
END:VEVENT
BEGIN:VTIMEZONE
TZID:Europe/Zurich
BEGIN:DAYLIGHT
DTSTART:20180725T121500
TZNAME:CEST
TZOFFSETTO:+0200
TZOFFSETFROM:+0200
END:DAYLIGHT
END:VTIMEZONE
END:VCALENDAR
