BEGIN:VCALENDAR
PRODID:-//eluceo/ical//2.0/EN
VERSION:2.0
CALSCALE:GREGORIAN
BEGIN:VEVENT
UID:c8705b21a4ff728ee12e66bf0b027cc3
DTSTAMP:20260421T204126Z
SUMMARY:InterCity Meeting RC Aarau\, RC Rheinfelden\, RC Liestal - Partnera
 nlass
DESCRIPTION:Treffpunkt 17:30 Uhr auf dem Areal der Kestenholz Gruppe. Progr
 amm gemäss beiliegender Einladung.\n\nTenue: Casual\, gutes Schuhwerk\n\n
 Verbindliche Anmeldungen bis spätestens am 13. März 2019 an Adrian Gasse
 r\, E gasser.basel@bluewin.ch\nSito web: http://www.kestenholzgruppe.com\n
 Relatore/i: Stephan Kestenholz\, Alfred Guggenbühl und Adrian Gasser
URL:https://rcliestal.ch/it/agenda/show/86760
DTSTART;TZID=Europe/Zurich:20190327T173000
DTEND;TZID=Europe/Zurich:20190327T220000
LOCATION:Mercedes-City\, Kestenholz Gruppe\, Magnet Areal\, Güterstrasse 9
 0\, 4133 Pratteln BL
CATEGORIES:Rotary
END:VEVENT
BEGIN:VTIMEZONE
TZID:Europe/Zurich
BEGIN:STANDARD
DTSTART:20190327T173000
TZNAME:CET
TZOFFSETTO:+0100
TZOFFSETFROM:+0100
END:STANDARD
END:VTIMEZONE
END:VCALENDAR
