BEGIN:VCALENDAR
PRODID:-//eluceo/ical//2.0/EN
VERSION:2.0
CALSCALE:GREGORIAN
BEGIN:VEVENT
UID:78860f8e54b5615d63d823df29469eed
DTSTAMP:20260421T235420Z
SUMMARY:Neujahrsapéro - Partneranlass
DESCRIPTION:Relatore/i: Alfred Guggenbühl und Ernesto Bronner
URL:https://rcliestal.ch/it/agenda/show/86341
DTSTART;TZID=Europe/Zurich:20190107T183000
DTEND;TZID=Europe/Zurich:20190107T210000
LOCATION:Cave Siebe Dupf\, Kasernenstrasse 25\, Liestal
CATEGORIES:Rotary
END:VEVENT
BEGIN:VTIMEZONE
TZID:Europe/Zurich
BEGIN:STANDARD
DTSTART:20190107T183000
TZNAME:CET
TZOFFSETTO:+0100
TZOFFSETFROM:+0100
END:STANDARD
END:VTIMEZONE
END:VCALENDAR
