BEGIN:VCALENDAR
PRODID:-//eluceo/ical//2.0/EN
VERSION:2.0
CALSCALE:GREGORIAN
BEGIN:VEVENT
UID:692869cf4bd4165abe7a80611f3568db
DTSTAMP:20260423T103229Z
SUMMARY:Programmvorstellung Clubjahr 2018/19
DESCRIPTION:Relatore/i: Adrian Gasser
URL:https://rcliestal.ch/it/agenda/show/86328
DTSTART;TZID=Europe/Zurich:20180711T121500
DTEND;TZID=Europe/Zurich:20180711T134500
LOCATION:Hotel Engel\, Liestal
CATEGORIES:Rotary
END:VEVENT
BEGIN:VTIMEZONE
TZID:Europe/Zurich
BEGIN:DAYLIGHT
DTSTART:20180711T121500
TZNAME:CEST
TZOFFSETTO:+0200
TZOFFSETFROM:+0200
END:DAYLIGHT
END:VTIMEZONE
END:VCALENDAR
