BEGIN:VCALENDAR
PRODID:-//eluceo/ical//2.0/EN
VERSION:2.0
CALSCALE:GREGORIAN
BEGIN:VEVENT
UID:cf94c14481a723c3c571a2f52cd0e5d9
DTSTAMP:20260424T121819Z
SUMMARY:Rotary-Herren-Anlass zu den Mercedes Werken Stuttgart
DESCRIPTION:
URL:https://rcliestal.ch/it/agenda/show/34658
DTSTART;TZID=Europe/Zurich:20130904T000000
DTEND;TZID=Europe/Zurich:20130905T000000
LOCATION:Stuttgart
CATEGORIES:Rotary
END:VEVENT
BEGIN:VTIMEZONE
TZID:Europe/Zurich
BEGIN:DAYLIGHT
DTSTART:20130904T000000
TZNAME:CEST
TZOFFSETTO:+0200
TZOFFSETFROM:+0200
END:DAYLIGHT
END:VTIMEZONE
END:VCALENDAR
