BEGIN:VCALENDAR
PRODID:-//eluceo/ical//2.0/EN
VERSION:2.0
CALSCALE:GREGORIAN
BEGIN:VEVENT
UID:76a571ae0f60889038a89d6de45cf26b
DTSTAMP:20260424T105305Z
SUMMARY:Governor-Besuch DG Max Theodor Herzig
DESCRIPTION:
URL:https://rcliestal.ch/it/agenda/show/34656
DTSTART;TZID=Europe/Zurich:20130911T121500
DTEND;TZID=Europe/Zurich:20130911T133000
LOCATION:Rest. zur Stadtmühle
CATEGORIES:Rotary
END:VEVENT
BEGIN:VTIMEZONE
TZID:Europe/Zurich
BEGIN:DAYLIGHT
DTSTART:20130911T121500
TZNAME:CEST
TZOFFSETTO:+0200
TZOFFSETFROM:+0200
END:DAYLIGHT
END:VTIMEZONE
END:VCALENDAR
