BEGIN:VCALENDAR
PRODID:-//eluceo/ical//2.0/EN
VERSION:2.0
CALSCALE:GREGORIAN
BEGIN:VEVENT
UID:cea0a3e570cd00c1104a38fd0a38ab64
DTSTAMP:20260424T124428Z
SUMMARY:Klassifikations-Vortrag\, Rot. Ulf Gawunder
DESCRIPTION:
URL:https://rcliestal.ch/it/agenda/show/30974
DTSTART;TZID=Europe/Zurich:20130821T121500
DTEND;TZID=Europe/Zurich:20130821T133000
LOCATION:Rest. zur Stadtmühle
CATEGORIES:Rotary
END:VEVENT
BEGIN:VTIMEZONE
TZID:Europe/Zurich
BEGIN:DAYLIGHT
DTSTART:20130821T121500
TZNAME:CEST
TZOFFSETTO:+0200
TZOFFSETFROM:+0200
END:DAYLIGHT
END:VTIMEZONE
END:VCALENDAR
