BEGIN:VCALENDAR
PRODID:-//eluceo/ical//2.0/EN
VERSION:2.0
CALSCALE:GREGORIAN
BEGIN:VEVENT
UID:02cb30d30fd7e9b13c89eac842d7cc81
DTSTAMP:20260424T125112Z
SUMMARY:Präsenzapéro
DESCRIPTION:
URL:https://rcliestal.ch/it/agenda/show/26916
DTSTART;TZID=Europe/Zurich:20121203T180000
DTEND;TZID=Europe/Zurich:20121203T180000
LOCATION:Liestal\, Rest. Kaserne
CATEGORIES:Rotary
END:VEVENT
BEGIN:VTIMEZONE
TZID:Europe/Zurich
BEGIN:STANDARD
DTSTART:20121203T180000
TZNAME:CET
TZOFFSETTO:+0100
TZOFFSETFROM:+0100
END:STANDARD
END:VTIMEZONE
END:VCALENDAR
