BEGIN:VCALENDAR
PRODID:-//eluceo/ical//2.0/EN
VERSION:2.0
CALSCALE:GREGORIAN
BEGIN:VEVENT
UID:0145a6ec68aa326f342555b823d850d8
DTSTAMP:20260424T092945Z
SUMMARY:Plauderlunch
DESCRIPTION:
URL:https://rcliestal.ch/it/agenda/show/26907
DTSTART;TZID=Europe/Zurich:20121017T121500
DTEND;TZID=Europe/Zurich:20121017T121500
LOCATION:Rest. zur Stadtmühle
CATEGORIES:Rotary
END:VEVENT
BEGIN:VTIMEZONE
TZID:Europe/Zurich
BEGIN:DAYLIGHT
DTSTART:20121017T121500
TZNAME:CEST
TZOFFSETTO:+0200
TZOFFSETFROM:+0200
END:DAYLIGHT
END:VTIMEZONE
END:VCALENDAR
