BEGIN:VCALENDAR
PRODID:-//eluceo/ical//2.0/EN
VERSION:2.0
CALSCALE:GREGORIAN
BEGIN:VEVENT
UID:024b310d706e9e37cdde27063f3e63fe
DTSTAMP:20260424T101955Z
SUMMARY:Referat "Das Unmögliche machen - Forschung und Entwicklung in Afri
 ka"
DESCRIPTION:Relatore/i: Marcel Tanner
URL:https://rcliestal.ch/it/agenda/show/25429
DTSTART;TZID=Europe/Zurich:20120926T121500
DTEND;TZID=Europe/Zurich:20120926T121500
LOCATION:Liestal\, Rest. zur Stadtmühle
CATEGORIES:Rotary
END:VEVENT
BEGIN:VTIMEZONE
TZID:Europe/Zurich
BEGIN:DAYLIGHT
DTSTART:20120926T121500
TZNAME:CEST
TZOFFSETTO:+0200
TZOFFSETFROM:+0200
END:DAYLIGHT
END:VTIMEZONE
END:VCALENDAR
