BEGIN:VCALENDAR
PRODID:-//eluceo/ical//2.0/EN
VERSION:2.0
CALSCALE:GREGORIAN
BEGIN:VEVENT
UID:ec4c932392d35cce65490a8973c39243
DTSTAMP:20260424T125740Z
SUMMARY:Jagdhüttenabend
DESCRIPTION:
URL:https://rcliestal.ch/it/agenda/show/25421
DTSTART;TZID=Europe/Zurich:20120824T180000
DTEND;TZID=Europe/Zurich:20120824T180000
LOCATION:Lausen\, Edletenhütte
CATEGORIES:Rotary
END:VEVENT
BEGIN:VTIMEZONE
TZID:Europe/Zurich
BEGIN:DAYLIGHT
DTSTART:20120824T180000
TZNAME:CEST
TZOFFSETTO:+0200
TZOFFSETFROM:+0200
END:DAYLIGHT
END:VTIMEZONE
END:VCALENDAR
