BEGIN:VCALENDAR
PRODID:-//eluceo/ical//2.0/EN
VERSION:2.0
CALSCALE:GREGORIAN
BEGIN:VEVENT
UID:9cf308aec7213324bfea2541a4a8158c
DTSTAMP:20260420T163558Z
SUMMARY:Get-together aller Liestaler Service Clubs
DESCRIPTION:Einladung siehe Beilage.\n\nAnmeldungen bitte ab sofort bis sp
 ätestens 13. Mai 2019 an Alfred Guggenbühl.\nConférencier(s): Einladung
  von Soroptimists Int. Club Liestal
URL:https://rcliestal.ch/fr/agenda/show/98036
DTSTART;TZID=Europe/Zurich:20190522T183000
DTEND;TZID=Europe/Zurich:20190522T203000
LOCATION:Cave Siebe Dupf\, Kasernenstrasse 25\, 4410 Liestal
CATEGORIES:Rotary
END:VEVENT
BEGIN:VTIMEZONE
TZID:Europe/Zurich
BEGIN:DAYLIGHT
DTSTART:20190522T183000
TZNAME:CEST
TZOFFSETTO:+0200
TZOFFSETFROM:+0200
END:DAYLIGHT
END:VTIMEZONE
END:VCALENDAR
