BEGIN:VCALENDAR
PRODID:-//eluceo/ical//2.0/EN
VERSION:2.0
CALSCALE:GREGORIAN
BEGIN:VEVENT
UID:66b28f15343684715b072c6840716302
DTSTAMP:20260422T121213Z
SUMMARY:Rotary English-Speaking Apéro
DESCRIPTION:Conférencier(s): RC Basel-Dreiländereck
URL:https://rcliestal.ch/fr/agenda/show/96263
DTSTART;TZID=Europe/Zurich:20190408T180000
DTEND;TZID=Europe/Zurich:20190408T193000
LOCATION:Swissôtel Le Plaza\, Messeplatz 25\, 4005 Basel
CATEGORIES:Rotary
END:VEVENT
BEGIN:VTIMEZONE
TZID:Europe/Zurich
BEGIN:DAYLIGHT
DTSTART:20190408T180000
TZNAME:CEST
TZOFFSETTO:+0200
TZOFFSETFROM:+0200
END:DAYLIGHT
END:VTIMEZONE
END:VCALENDAR
