BEGIN:VCALENDAR
PRODID:-//eluceo/ical//2.0/EN
VERSION:2.0
CALSCALE:GREGORIAN
BEGIN:VEVENT
UID:80df4f19d31e2596ecca22fd72e62374
DTSTAMP:20260425T134244Z
SUMMARY:Referat - Jugendaustausch in Namibia
DESCRIPTION:Conférencier(s): Lukas Schenker
URL:https://rcliestal.ch/fr/agenda/show/91697
DTSTART;TZID=Europe/Zurich:20181017T121500
DTEND;TZID=Europe/Zurich:20181017T134500
LOCATION:Hotel Engel
CATEGORIES:Rotary
END:VEVENT
BEGIN:VTIMEZONE
TZID:Europe/Zurich
BEGIN:DAYLIGHT
DTSTART:20181017T121500
TZNAME:CEST
TZOFFSETTO:+0200
TZOFFSETFROM:+0200
END:DAYLIGHT
END:VTIMEZONE
END:VCALENDAR
