BEGIN:VCALENDAR
PRODID:-//eluceo/ical//2.0/EN
VERSION:2.0
CALSCALE:GREGORIAN
BEGIN:VEVENT
UID:d07e3a43519598ce2b226a39662b6b82
DTSTAMP:20260420T163810Z
SUMMARY:Referat - offen / Informationen aus dem Vorstand
DESCRIPTION:
URL:https://rcliestal.ch/fr/agenda/show/90442
DTSTART;TZID=Europe/Zurich:20190515T121500
DTEND;TZID=Europe/Zurich:20190515T134500
LOCATION:Hotel Engel
CATEGORIES:Rotary
END:VEVENT
BEGIN:VTIMEZONE
TZID:Europe/Zurich
BEGIN:DAYLIGHT
DTSTART:20190515T121500
TZNAME:CEST
TZOFFSETTO:+0200
TZOFFSETFROM:+0200
END:DAYLIGHT
END:VTIMEZONE
END:VCALENDAR
