BEGIN:VCALENDAR
PRODID:-//eluceo/ical//2.0/EN
VERSION:2.0
CALSCALE:GREGORIAN
BEGIN:VEVENT
UID:845a8d04534739720bd2cdaa4cd9f4af
DTSTAMP:20260421T120050Z
SUMMARY:Ride for Rotary - letzter Lunch des Clubjahres 2018/19
DESCRIPTION:Ride for Rotary - 3000 Kilometer durch Indien - Von Mumbai bi
 s Mangalore mit einem Royal Enfield 500 Bullet.\n\nEin Erlebnisbericht de
 r einmaligen Reise unseres Mitrotarieres Urs Aebi\nConférencier(s): Rot. 
 Urs Aebi
URL:https://rcliestal.ch/fr/agenda/show/90255
DTSTART;TZID=Europe/Zurich:20190626T121500
DTEND;TZID=Europe/Zurich:20190626T134500
LOCATION:Hotel Engel
CATEGORIES:Rotary
END:VEVENT
BEGIN:VTIMEZONE
TZID:Europe/Zurich
BEGIN:DAYLIGHT
DTSTART:20190626T121500
TZNAME:CEST
TZOFFSETTO:+0200
TZOFFSETFROM:+0200
END:DAYLIGHT
END:VTIMEZONE
END:VCALENDAR
