BEGIN:VCALENDAR
PRODID:-//eluceo/ical//2.0/EN
VERSION:2.0
CALSCALE:GREGORIAN
BEGIN:VEVENT
UID:fb15431907580ac4953755e56485ee0e
DTSTAMP:20260420T183757Z
SUMMARY:Tischgespräche / Informationen aus dem Vorstand
DESCRIPTION:
URL:https://rcliestal.ch/fr/agenda/show/90251
DTSTART;TZID=Europe/Zurich:20190515T121500
DTEND;TZID=Europe/Zurich:20190515T134500
LOCATION:Hotel Engel
CATEGORIES:Rotary
END:VEVENT
BEGIN:VTIMEZONE
TZID:Europe/Zurich
BEGIN:DAYLIGHT
DTSTART:20190515T121500
TZNAME:CEST
TZOFFSETTO:+0200
TZOFFSETFROM:+0200
END:DAYLIGHT
END:VTIMEZONE
END:VCALENDAR
