BEGIN:VCALENDAR
PRODID:-//eluceo/ical//2.0/EN
VERSION:2.0
CALSCALE:GREGORIAN
BEGIN:VEVENT
UID:c77f0a1bf2ee3108878a5664f606d351
DTSTAMP:20260421T120616Z
SUMMARY:Tischgespräche
DESCRIPTION:Site internet: http://www.badeptingen.ch
URL:https://rcliestal.ch/fr/agenda/show/90241
DTSTART;TZID=Europe/Zurich:20190605T121500
DTEND;TZID=Europe/Zurich:20190605T134500
LOCATION:Hotel Bad Eptingen\, Läufelfingerstrasse 2\, 4458 Eptingen BL
CATEGORIES:Rotary
END:VEVENT
BEGIN:VTIMEZONE
TZID:Europe/Zurich
BEGIN:DAYLIGHT
DTSTART:20190605T121500
TZNAME:CEST
TZOFFSETTO:+0200
TZOFFSETFROM:+0200
END:DAYLIGHT
END:VTIMEZONE
END:VCALENDAR
