BEGIN:VCALENDAR
PRODID:-//eluceo/ical//2.0/EN
VERSION:2.0
CALSCALE:GREGORIAN
BEGIN:VEVENT
UID:b33aa7e3b0814aa0bf97393d74ec2ab5
DTSTAMP:20260421T083028Z
SUMMARY:Sommerliche Tischgespräche
DESCRIPTION:
URL:https://rcliestal.ch/fr/agenda/show/87522
DTSTART;TZID=Europe/Zurich:20180718T121500
DTEND;TZID=Europe/Zurich:20180718T133000
LOCATION:Hotel Engel\, Liestal
CATEGORIES:Rotary
END:VEVENT
BEGIN:VTIMEZONE
TZID:Europe/Zurich
BEGIN:DAYLIGHT
DTSTART:20180718T121500
TZNAME:CEST
TZOFFSETTO:+0200
TZOFFSETFROM:+0200
END:DAYLIGHT
END:VTIMEZONE
END:VCALENDAR
