BEGIN:VCALENDAR
PRODID:-//eluceo/ical//2.0/EN
VERSION:2.0
CALSCALE:GREGORIAN
BEGIN:VEVENT
UID:8399aae63cc80cb804890a062fc064a6
DTSTAMP:20260420T131747Z
SUMMARY:Tischgespräche
DESCRIPTION:Site internet: http://www.badeptingen.ch
URL:https://rcliestal.ch/fr/agenda/show/86363
DTSTART;TZID=Europe/Zurich:20190508T121500
DTEND;TZID=Europe/Zurich:20190508T134500
LOCATION:Hotel Bad Eptingen\, Läufelfingerstrasse 2\, 4458 Eptingen BL
CATEGORIES:Rotary
END:VEVENT
BEGIN:VTIMEZONE
TZID:Europe/Zurich
BEGIN:DAYLIGHT
DTSTART:20190508T121500
TZNAME:CEST
TZOFFSETTO:+0200
TZOFFSETFROM:+0200
END:DAYLIGHT
END:VTIMEZONE
END:VCALENDAR
