BEGIN:VCALENDAR
PRODID:-//eluceo/ical//2.0/EN
VERSION:2.0
CALSCALE:GREGORIAN
BEGIN:VEVENT
UID:bad98c5201ac2b2c9d8973bcdfdae4ce
DTSTAMP:20260422T104120Z
SUMMARY:Tischgespräche / Aufnahme Fabio Cirillo / Trauerlunch Herbert E. W
 ickli
DESCRIPTION:Site internet: http://www.badeptingen.ch
URL:https://rcliestal.ch/fr/agenda/show/86362
DTSTART;TZID=Europe/Zurich:20190403T121500
DTEND;TZID=Europe/Zurich:20190403T134500
LOCATION:Hotel Bad Eptingen\, Läufelfingerstrasse 2\, 4458 Eptingen BL
CATEGORIES:Rotary
END:VEVENT
BEGIN:VTIMEZONE
TZID:Europe/Zurich
BEGIN:DAYLIGHT
DTSTART:20190403T121500
TZNAME:CEST
TZOFFSETTO:+0200
TZOFFSETFROM:+0200
END:DAYLIGHT
END:VTIMEZONE
END:VCALENDAR
