BEGIN:VCALENDAR
PRODID:-//eluceo/ical//2.0/EN
VERSION:2.0
CALSCALE:GREGORIAN
BEGIN:VEVENT
UID:9a25884c8d3a82f86d166bc9f14c5595
DTSTAMP:20260421T120239Z
SUMMARY:2. Generalversammlung
DESCRIPTION:Conférencier(s): Alfred Guggenbühl
URL:https://rcliestal.ch/fr/agenda/show/86347
DTSTART;TZID=Europe/Zurich:20190612T121500
DTEND;TZID=Europe/Zurich:20190612T134500
LOCATION:Hotel Engel\, Liestal
CATEGORIES:Rotary
END:VEVENT
BEGIN:VTIMEZONE
TZID:Europe/Zurich
BEGIN:DAYLIGHT
DTSTART:20190612T121500
TZNAME:CEST
TZOFFSETTO:+0200
TZOFFSETFROM:+0200
END:DAYLIGHT
END:VTIMEZONE
END:VCALENDAR
