BEGIN:VCALENDAR
PRODID:-//eluceo/ical//2.0/EN
VERSION:2.0
CALSCALE:GREGORIAN
BEGIN:VEVENT
UID:352c9ad2905f1ca5781c5bae45daf3fa
DTSTAMP:20260420T125722Z
SUMMARY:Jassturnier
DESCRIPTION:Programm:\n\n18:00 Uhr Apéro\n\n18:30 Uhr Nachtessen\n\n19:30 
 Uhr Beginn Jassturnier\n\n \n\nJohn Berner freut sich auf zahlreiche Anm
 eldung ab sofort bis spätestens 4. Januar 2019\, per eMail: john.berner
 @bluewin.ch\nConférencier(s): Organisation RC Sissach-Oberbaselbiet
URL:https://rcliestal.ch/fr/agenda/show/86342
DTSTART;TZID=Europe/Zurich:20190110T180000
DTEND;TZID=Europe/Zurich:20190110T220000
LOCATION:Restaurant Hard\, Alte Landstrasse 8\, 4455 Zunzgen
CATEGORIES:Rotary
END:VEVENT
BEGIN:VTIMEZONE
TZID:Europe/Zurich
BEGIN:STANDARD
DTSTART:20190110T180000
TZNAME:CET
TZOFFSETTO:+0100
TZOFFSETFROM:+0100
END:STANDARD
END:VTIMEZONE
END:VCALENDAR
