BEGIN:VCALENDAR
PRODID:-//eluceo/ical//2.0/EN
VERSION:2.0
CALSCALE:GREGORIAN
BEGIN:VEVENT
UID:bd15c7a11243f251cf7efd139df4be26
DTSTAMP:20260423T092732Z
SUMMARY:Präsidialansprache
DESCRIPTION:Conférencier(s): Alfred Guggenbühl
URL:https://rcliestal.ch/fr/agenda/show/86329
DTSTART;TZID=Europe/Zurich:20180704T121500
DTEND;TZID=Europe/Zurich:20180704T134500
LOCATION:HOTEL ENGEL\, LIESTAL (Betriebsferien Bad Eptingen)
CATEGORIES:Rotary
END:VEVENT
BEGIN:VTIMEZONE
TZID:Europe/Zurich
BEGIN:DAYLIGHT
DTSTART:20180704T121500
TZNAME:CEST
TZOFFSETTO:+0200
TZOFFSETFROM:+0200
END:DAYLIGHT
END:VTIMEZONE
END:VCALENDAR
