BEGIN:VCALENDAR
PRODID:-//eluceo/ical//2.0/EN
VERSION:2.0
CALSCALE:GREGORIAN
BEGIN:VEVENT
UID:ea03bd04571670ce8d9fd377f168a0eb
DTSTAMP:20260421T140533Z
SUMMARY:Städtli-Fescht Lieschtel - Tessiner Stube 
DESCRIPTION:Der Rotary Club Liestal und der Rotaract Club Oberbaselbiet b
 ewirten gemeinsam Gäste in der "Tessiner Stube" auf dem Wasserturmplatz.
 \n\nDetails folgen - bitte Termin reservieren.\nOrador(es): Rotary Club Li
 estal und Rotaract Club Oberbaselbiet
URL:https://rcliestal.ch/es/agenda/show/95515
DTSTART;TZID=Europe/Zurich:20190906T170000
DTEND;TZID=Europe/Zurich:20190908T150000
LOCATION:Wasserturmplatz Liestal
CATEGORIES:Rotary
END:VEVENT
BEGIN:VTIMEZONE
TZID:Europe/Zurich
BEGIN:DAYLIGHT
DTSTART:20190906T170000
TZNAME:CEST
TZOFFSETTO:+0200
TZOFFSETFROM:+0200
END:DAYLIGHT
END:VTIMEZONE
END:VCALENDAR
