BEGIN:VCALENDAR
PRODID:-//eluceo/ical//2.0/EN
VERSION:2.0
CALSCALE:GREGORIAN
BEGIN:VEVENT
UID:d5a4af83a9b429b7fa331738855055c6
DTSTAMP:20260424T220604Z
SUMMARY:Rotary goes Rock for End Polio Now
DESCRIPTION:Gemäss beiliegendem Flyer. Anmeldungen und Anfragen an Susanne
  Affolger\, eMail s.affolter@lamello.ch\nOrador(es): RC Augst Raurica - Su
 sanne Affolter und Daniel Schwörer
URL:https://rcliestal.ch/es/agenda/show/93081
DTSTART;TZID=Europe/Zurich:20181109T183000
DTEND;TZID=Europe/Zurich:20181109T233000
LOCATION:Saal Restaurant Liebrüti\, Kaiseraugst
CATEGORIES:Rotary
END:VEVENT
BEGIN:VTIMEZONE
TZID:Europe/Zurich
BEGIN:STANDARD
DTSTART:20181109T183000
TZNAME:CET
TZOFFSETTO:+0100
TZOFFSETFROM:+0100
END:STANDARD
END:VTIMEZONE
END:VCALENDAR
