BEGIN:VCALENDAR
PRODID:-//eluceo/ical//2.0/EN
VERSION:2.0
CALSCALE:GREGORIAN
BEGIN:VEVENT
UID:cc7dd954e5edf232cb40b16918d964c7
DTSTAMP:20260421T155336Z
SUMMARY:Präsenzapéro
DESCRIPTION:
URL:https://rcliestal.ch/es/agenda/show/90229
DTSTART;TZID=Europe/Zurich:20190604T180000
DTEND;TZID=Europe/Zurich:20190604T190000
LOCATION:Chez Rodolfo\, Hauptstrasse 72\, 4422 Arisdorf
CATEGORIES:Rotary
END:VEVENT
BEGIN:VTIMEZONE
TZID:Europe/Zurich
BEGIN:DAYLIGHT
DTSTART:20190604T180000
TZNAME:CEST
TZOFFSETTO:+0200
TZOFFSETFROM:+0200
END:DAYLIGHT
END:VTIMEZONE
END:VCALENDAR
