BEGIN:VCALENDAR
PRODID:-//eluceo/ical//2.0/EN
VERSION:2.0
CALSCALE:GREGORIAN
BEGIN:VEVENT
UID:85e75bdd952437f87acd728ccffc625f
DTSTAMP:20260424T170558Z
SUMMARY:Präsenzapéro
DESCRIPTION:
URL:https://rcliestal.ch/es/agenda/show/90223
DTSTART;TZID=Europe/Zurich:20181106T180000
DTEND;TZID=Europe/Zurich:20181106T190000
LOCATION:Chez Rodolfo\, Hauptstrasse 72\, 4422 Arisdorf
CATEGORIES:Rotary
END:VEVENT
BEGIN:VTIMEZONE
TZID:Europe/Zurich
BEGIN:STANDARD
DTSTART:20181106T180000
TZNAME:CET
TZOFFSETTO:+0100
TZOFFSETFROM:+0100
END:STANDARD
END:VTIMEZONE
END:VCALENDAR
