BEGIN:VCALENDAR
PRODID:-//eluceo/ical//2.0/EN
VERSION:2.0
CALSCALE:GREGORIAN
BEGIN:VEVENT
UID:e3a62319fefd9fb5047de77494ca6e7c
DTSTAMP:20260424T202421Z
SUMMARY:Rotary English-Speaking Apéro
DESCRIPTION:Orador(es): RC Basel-Dreiländereck
URL:https://rcliestal.ch/es/agenda/show/89675
DTSTART;TZID=Europe/Zurich:20181112T180000
DTEND;TZID=Europe/Zurich:20181112T193000
LOCATION:Swissôtel Le Plaza\, Messeplatz 25\, 4005 Basel
CATEGORIES:Rotary
END:VEVENT
BEGIN:VTIMEZONE
TZID:Europe/Zurich
BEGIN:STANDARD
DTSTART:20181112T180000
TZNAME:CET
TZOFFSETTO:+0100
TZOFFSETFROM:+0100
END:STANDARD
END:VTIMEZONE
END:VCALENDAR
