BEGIN:VCALENDAR
PRODID:-//eluceo/ical//2.0/EN
VERSION:2.0
CALSCALE:GREGORIAN
BEGIN:VEVENT
UID:f4818c65ab521823d05106f7775f0be4
DTSTAMP:20260421T142914Z
SUMMARY:Sommerlicher Präsenzapéro
DESCRIPTION:Danke an Madlen und John Berner für die Einladung zum sommerl
 ichen Präsenzapéro.\n\nAn- oder Abmeldung ist nicht erforderlich.\n\nDie
  Wegbeschreibung ist auf der beiliegenden Einladung ersichtlich.\nOrador(e
 s): John und Madlen Berner
URL:https://rcliestal.ch/es/agenda/show/87525
DTSTART;TZID=Europe/Zurich:20180807T180000
DTEND;TZID=Europe/Zurich:20180807T190000
LOCATION:Strassenackerweg 14\, 4442 Diepflingen
CATEGORIES:Rotary
END:VEVENT
BEGIN:VTIMEZONE
TZID:Europe/Zurich
BEGIN:DAYLIGHT
DTSTART:20180807T180000
TZNAME:CEST
TZOFFSETTO:+0200
TZOFFSETFROM:+0200
END:DAYLIGHT
END:VTIMEZONE
END:VCALENDAR
