BEGIN:VCALENDAR
PRODID:-//eluceo/ical//2.0/EN
VERSION:2.0
CALSCALE:GREGORIAN
BEGIN:VEVENT
UID:dffb7b45c0f90e5d8b124621107d8e90
DTSTAMP:20260421T161950Z
SUMMARY:Nationalfeiertag - kein Anlass
DESCRIPTION:
URL:https://rcliestal.ch/es/agenda/show/87524
DTSTART;TZID=Europe/Zurich:20180801T000000
DTEND;TZID=Europe/Zurich:20180801T000000
LOCATION:-
CATEGORIES:Rotary
END:VEVENT
BEGIN:VTIMEZONE
TZID:Europe/Zurich
BEGIN:DAYLIGHT
DTSTART:20180801T000000
TZNAME:CEST
TZOFFSETTO:+0200
TZOFFSETFROM:+0200
END:DAYLIGHT
END:VTIMEZONE
END:VCALENDAR
