BEGIN:VCALENDAR
PRODID:-//eluceo/ical//2.0/EN
VERSION:2.0
CALSCALE:GREGORIAN
BEGIN:VEVENT
UID:a3be7f43542a3d9821b7a2931a814def
DTSTAMP:20260424T170952Z
SUMMARY:Tischgespräche - Metzgete
DESCRIPTION:Sitio web: http://www.badeptingen.ch
URL:https://rcliestal.ch/es/agenda/show/86357
DTSTART;TZID=Europe/Zurich:20181107T121500
DTEND;TZID=Europe/Zurich:20181107T134500
LOCATION:Hotel Bad Eptingen\, Läufelfingerstrasse 2\, 4458 Eptingen BL
CATEGORIES:Rotary
END:VEVENT
BEGIN:VTIMEZONE
TZID:Europe/Zurich
BEGIN:STANDARD
DTSTART:20181107T121500
TZNAME:CET
TZOFFSETTO:+0100
TZOFFSETFROM:+0100
END:STANDARD
END:VTIMEZONE
END:VCALENDAR
