BEGIN:VCALENDAR
PRODID:-//eluceo/ical//2.0/EN
VERSION:2.0
CALSCALE:GREGORIAN
BEGIN:VEVENT
UID:77cfef6c4c2696c14d2015e5dccf5081
DTSTAMP:20260421T174512Z
SUMMARY:Präsidialübergabe - Partneranlass
DESCRIPTION:Einladung zur Präsidialübergabe - Partneranlass\n\nDatum:  
                    Donnerstag\, 27. Juni 2019\n\nZeit:
                            18:00-18:30 Uhr  
   Eintreffen der Gäste und Apéro\n\n18:30 Uhr            
     Aufnahme eines Neumitglieds und Präsidialübergabe\n\nAb 19 Uhr
                Abendessen\n\nOrt:             
               Turmwirtschaft Aussichtsturm\, 4410 Liestal 
      \n\n \n\nGeschätzte rotarische Freunde\n\nDas rotarische Clubj
 ahr schliessen wir traditionell mit der Präsidialübergabe ab: Alfred Gug
 genbühl übergibt die Präsidentenkiste an Robert Sum. Wir freuen uns auf
  das gemütliche Beisammensein auf dem Liestaler Schleifenberg.\n\nAnmeldu
 ng: An- und Abmeldungen bitte bis spätestens am 21.Juni 2019 per Mail an
  Adrian Gasser: gasser.basel@bluewin.ch\n\nKosten: CHF 45 pro Person – 
 bitte in bar vor Ort bezahlen.\n\nAnreise: Zufahrt mit PW zur Turmwirtsch
 aft gestattet. Bus: Linie 83 bis Haltstelle Liestal\, Abzweigung Hersberg
 .\n\n \n\nMit rotarischen Grüssen\, \n\nAlfred Guggenbühl\, Robert Sum
 \, Adrian Gasser und Patrick Maurer\nOrador(es): Alfred Guggenbühl und Ro
 bert Sum
URL:https://rcliestal.ch/es/agenda/show/86349
DTSTART;TZID=Europe/Zurich:20190627T180000
DTEND;TZID=Europe/Zurich:20190627T220000
LOCATION:Aussichtsturm Liestal
CATEGORIES:Rotary
END:VEVENT
BEGIN:VTIMEZONE
TZID:Europe/Zurich
BEGIN:DAYLIGHT
DTSTART:20190627T180000
TZNAME:CEST
TZOFFSETTO:+0200
TZOFFSETFROM:+0200
END:DAYLIGHT
END:VTIMEZONE
END:VCALENDAR
