BEGIN:VCALENDAR
PRODID:-//eluceo/ical//2.0/EN
VERSION:2.0
CALSCALE:GREGORIAN
BEGIN:VEVENT
UID:94549768e13945a368d4f2887e226ffe
DTSTAMP:20260424T202222Z
SUMMARY:Past-Präsidenten-Treffen
DESCRIPTION:Orador(es): Alfred Guggenbühl
URL:https://rcliestal.ch/es/agenda/show/86336
DTSTART;TZID=Europe/Zurich:20181115T000000
DTEND;TZID=Europe/Zurich:20181115T000000
LOCATION:offen
CATEGORIES:Rotary
END:VEVENT
BEGIN:VTIMEZONE
TZID:Europe/Zurich
BEGIN:STANDARD
DTSTART:20181115T000000
TZNAME:CET
TZOFFSETTO:+0100
TZOFFSETFROM:+0100
END:STANDARD
END:VTIMEZONE
END:VCALENDAR
