BEGIN:VCALENDAR
PRODID:-//eluceo/ical//2.0/EN
VERSION:2.0
CALSCALE:GREGORIAN
BEGIN:VEVENT
UID:451a81539330d709933c7980d4a9e5e3
DTSTAMP:20260424T202102Z
SUMMARY:Neu-Rotarier-Seminar
DESCRIPTION:Orador(es): alle Neu-Rotarier
URL:https://rcliestal.ch/es/agenda/show/86335
DTSTART;TZID=Europe/Zurich:20181103T000000
DTEND;TZID=Europe/Zurich:20181103T000000
LOCATION:Lenzburg
CATEGORIES:Rotary
END:VEVENT
BEGIN:VTIMEZONE
TZID:Europe/Zurich
BEGIN:STANDARD
DTSTART:20181103T000000
TZNAME:CET
TZOFFSETTO:+0100
TZOFFSETFROM:+0100
END:STANDARD
END:VTIMEZONE
END:VCALENDAR
