BEGIN:VCALENDAR
PRODID:-//eluceo/ical//2.0/EN
VERSION:2.0
CALSCALE:GREGORIAN
BEGIN:VEVENT
UID:a7ebd443e6811632fc21af3d54dbdb04
DTSTAMP:20260421T192832Z
SUMMARY:Präsenzapéro
DESCRIPTION:Liebe Rotary-Freunde\n\nWir freuen uns\, den Präsenzapéro bei
  schönem Wetter in unserem Rebhüsli am Wartenberg in Muttenz durchzuf
 ühren. Das Rebhaus ist mit dem Auto gut erreichbar\, Parkplätze sind vor
 handen. Zu Fuss ab Tramhaltestelle Muttenz Dorf ca. 30 Minuten.\n\nBei s
 chlechtem Wetter kann der Anlass leider nicht stattfinden. Info erfolgt v
 ia WhatsApp-Gruppe und Rotary-Homepage.\n\nBitte um Anmeldung bis 1. Juli 
 via Rotary-WhatsApp-Gruppe oder an anpa.maurer@bluewin.ch.\n\nMit rotarisc
 hen Grüssen\n\nPatrick und Andrea Maurer\nOrador(es): Patrick Maurer
URL:https://rcliestal.ch/es/agenda/show/100716
DTSTART;TZID=Europe/Zurich:20190702T180000
DTEND;TZID=Europe/Zurich:20190702T200000
LOCATION:Rebberg Muttenz\, Badstubenstrasse\, 4132 Muttenz
CATEGORIES:Rotary
END:VEVENT
BEGIN:VTIMEZONE
TZID:Europe/Zurich
BEGIN:DAYLIGHT
DTSTART:20190702T180000
TZNAME:CEST
TZOFFSETTO:+0200
TZOFFSETFROM:+0200
END:DAYLIGHT
END:VTIMEZONE
END:VCALENDAR
