BEGIN:VCALENDAR
PRODID:-//eluceo/ical//2.0/EN
VERSION:2.0
CALSCALE:GREGORIAN
BEGIN:VEVENT
UID:5c2b836663ea0a7f68f3261b56ff6cf0
DTSTAMP:20260425T175520Z
SUMMARY:Tischgespräche
DESCRIPTION:Web stranica: http://www.badeptingen.ch
URL:https://rcliestal.ch/bs/agenda/show/86361
DTSTART;TZID=Europe/Zurich:20190306T121500
DTEND;TZID=Europe/Zurich:20190306T134500
LOCATION:Hotel Bad Eptingen\, Läufelfingerstrasse 2\, 4458 Eptingen BL
CATEGORIES:Rotary
END:VEVENT
BEGIN:VTIMEZONE
TZID:Europe/Zurich
BEGIN:STANDARD
DTSTART:20190306T121500
TZNAME:CET
TZOFFSETTO:+0100
TZOFFSETFROM:+0100
END:STANDARD
END:VTIMEZONE
END:VCALENDAR
