BEGIN:VCALENDAR
PRODID:-//eluceo/ical//2.0/EN
VERSION:2.0
CALSCALE:GREGORIAN
BEGIN:VEVENT
UID:bf18f75a197a34a02dbeac0513fb7b77
DTSTAMP:20260425T143118Z
SUMMARY:Fasnachtslunch
DESCRIPTION:Govornik(ci): Thomas Kuhn
URL:https://rcliestal.ch/bs/agenda/show/86344
DTSTART;TZID=Europe/Zurich:20190313T121500
DTEND;TZID=Europe/Zurich:20190313T134500
LOCATION:Hotel Engel\, Liestal
CATEGORIES:Rotary
END:VEVENT
BEGIN:VTIMEZONE
TZID:Europe/Zurich
BEGIN:STANDARD
DTSTART:20190313T121500
TZNAME:CET
TZOFFSETTO:+0100
TZOFFSETFROM:+0100
END:STANDARD
END:VTIMEZONE
END:VCALENDAR
