BEGIN:VCALENDAR
PRODID:-//eluceo/ical//2.0/EN
VERSION:2.0
CALSCALE:GREGORIAN
BEGIN:VEVENT
UID:37d1ab6d9d1172c481a0c3b6a6fa72d4
DTSTAMP:20260423T011825Z
SUMMARY:WELTPOLIOTAG in LIESTAL
DESCRIPTION:Govornik(ci): RC Liestal zusammen mit der Region Baselbiet-Fric
 ktal
URL:https://rcliestal.ch/bs/agenda/show/196428
DTSTART;TZID=Europe/Zurich:20251024T113000
DTEND;TZID=Europe/Zurich:20251024T200000
LOCATION:Spittelerhof\, im Festzelt
CATEGORIES:Rotary
END:VEVENT
BEGIN:VTIMEZONE
TZID:Europe/Zurich
BEGIN:DAYLIGHT
DTSTART:20251024T113000
TZNAME:CEST
TZOFFSETTO:+0200
TZOFFSETFROM:+0200
END:DAYLIGHT
END:VTIMEZONE
END:VCALENDAR
